BEGIN:VCALENDAR
VERSION:2.0
PRODID:Events Booking
BEGIN:VEVENT
UID:69e591eb1e036
SUMMARY:Ceramic Flowers Workshop
DESCRIPTION:This workshop will give you the opportunity to make 3 ceramic f
 lowers for your garden. (Should you be a speedy worker then you might find
  you have time to make a 4th flower) The flowers will attach to metal rod
 s that can then be positioned in your garden adding a beautiful\, year rou
 nd burst of colour.
LOCATION:Farnham\, Surrey
DTSTART:20260502T090000Z
DTEND:20260502T150000Z
DTSTAMP:20260302T111816Z
ORGANIZER;CN=Liane Matthews:MAILTO:hello@lianematthews.com
GEO:51.215175;-0.798485
X-APPLE-STRUCTURED-LOCATION;VALUE=URI;X-ADDRESS=Farnham\, Surrey;X-APPLE-RA
 DIUS=72;X-TITLE=Farnham\, Surrey:51.215175;-0.798485
END:VEVENT
END:VCALENDAR